BEGIN:VCALENDAR
VERSION:2.0
PRODID:-//Terralux.hu - ECPv6.2.0.1//NONSGML v1.0//EN
CALSCALE:GREGORIAN
METHOD:PUBLISH
X-ORIGINAL-URL:https://terralux.hu
X-WR-CALDESC:Events for Terralux.hu
REFRESH-INTERVAL;VALUE=DURATION:PT1H
X-Robots-Tag:noindex
X-PUBLISHED-TTL:PT1H
BEGIN:VTIMEZONE
TZID:Europe/Budapest
BEGIN:DAYLIGHT
TZOFFSETFROM:+0100
TZOFFSETTO:+0200
TZNAME:CEST
DTSTART:20240331T010000
END:DAYLIGHT
BEGIN:STANDARD
TZOFFSETFROM:+0200
TZOFFSETTO:+0100
TZNAME:CET
DTSTART:20241027T010000
END:STANDARD
END:VTIMEZONE
BEGIN:VEVENT
DTSTART;VALUE=DATE:20240604
DTEND;VALUE=DATE:20240605
DTSTAMP:20260423T073047
CREATED:20240130T115559Z
LAST-MODIFIED:20240130T115559Z
UID:2744-1717459200-1717545599@terralux.hu
SUMMARY:Tavaszi Országjáró Turné 2024 - Budapest I. (XXIII./X./XVII.)
DESCRIPTION:Budapest I. – http://www.hotelstacio.hu/
URL:https://terralux.hu/esemeny/tavaszi-orszagjaro-turne-2024-budapest-i-xxiii-x-xvii
END:VEVENT
END:VCALENDAR