BEGIN:VCALENDAR
VERSION:2.0
PRODID:-//Terralux.hu - ECPv6.2.0.1//NONSGML v1.0//EN
CALSCALE:GREGORIAN
METHOD:PUBLISH
X-WR-CALNAME:Terralux.hu
X-ORIGINAL-URL:https://terralux.hu
X-WR-CALDESC:Events for Terralux.hu
REFRESH-INTERVAL;VALUE=DURATION:PT1H
X-Robots-Tag:noindex
X-PUBLISHED-TTL:PT1H
BEGIN:VTIMEZONE
TZID:Europe/Budapest
BEGIN:DAYLIGHT
TZOFFSETFROM:+0100
TZOFFSETTO:+0200
TZNAME:CEST
DTSTART:20230326T010000
END:DAYLIGHT
BEGIN:STANDARD
TZOFFSETFROM:+0200
TZOFFSETTO:+0100
TZNAME:CET
DTSTART:20231029T010000
END:STANDARD
BEGIN:DAYLIGHT
TZOFFSETFROM:+0100
TZOFFSETTO:+0200
TZNAME:CEST
DTSTART:20240331T010000
END:DAYLIGHT
BEGIN:STANDARD
TZOFFSETFROM:+0200
TZOFFSETTO:+0100
TZNAME:CET
DTSTART:20241027T010000
END:STANDARD
END:VTIMEZONE
BEGIN:VEVENT
DTSTART;VALUE=DATE:20240409
DTEND;VALUE=DATE:20240410
DTSTAMP:20260423T003345
CREATED:20240130T111858Z
LAST-MODIFIED:20240130T111858Z
UID:2679-1712620800-1712707199@terralux.hu
SUMMARY:Tavaszi Roadshow - Győr
DESCRIPTION:
URL:https://terralux.hu/esemeny/tavaszi-roadshow-gyor
LOCATION:Szerelvénybolt – Győr\, Budai út 2.\, Győr\, Győr-Moson-Sopron vármegye\, 9027\, Magyarország
END:VEVENT
BEGIN:VEVENT
DTSTART;VALUE=DATE:20240408
DTEND;VALUE=DATE:20240409
DTSTAMP:20260423T003345
CREATED:20240130T110350Z
LAST-MODIFIED:20240130T111818Z
UID:2676-1712534400-1712620799@terralux.hu
SUMMARY:Tavaszi Roadshow - Dunakeszi
DESCRIPTION:
URL:https://terralux.hu/esemeny/tavaszi-roadshow
LOCATION:Szerelvénybolt – Dunakeszi\, Pallag u. 11.\, Dunakeszi\, Pest vármegye\, 2120\, Magyarország
END:VEVENT
BEGIN:VEVENT
DTSTART;VALUE=DATE:20240131
DTEND;VALUE=DATE:20240201
DTSTAMP:20260423T003345
CREATED:20240130T080310Z
LAST-MODIFIED:20240130T080310Z
UID:2673-1706659200-1706745599@terralux.hu
SUMMARY:Start 2024
DESCRIPTION:
URL:https://terralux.hu/esemeny/start-2024
LOCATION:Lurdy-ház\, Könyves Kálmán krt. 12-14\, Budapest\, 1097\, Magyarország
END:VEVENT
BEGIN:VEVENT
DTSTART;TZID=Europe/Budapest:20240130T080000
DTEND;TZID=Europe/Budapest:20240130T170000
DTSTAMP:20260423T003345
CREATED:20240130T115716Z
LAST-MODIFIED:20240130T115716Z
UID:2746-1706601600-1706634000@terralux.hu
SUMMARY:Tavaszi Országjáró Turné 2024 - Budapest II. (Dunakeszi/XIII./Budaörs)
DESCRIPTION:Budapest II – https://www.danubiushotels.hu/helia
URL:https://terralux.hu/esemeny/tavaszi-orszagjaro-turne-2024-budapest-ii-dunakeszi-xiii-budaors
END:VEVENT
BEGIN:VEVENT
DTSTART;TZID=Europe/Budapest:20231107T083000
DTEND;TZID=Europe/Budapest:20231107T160000
DTSTAMP:20260423T003345
CREATED:20230829T105532Z
LAST-MODIFIED:20230829T105545Z
UID:2054-1699345800-1699372800@terralux.hu
SUMMARY:II. Fókuszban a klíma és a hőszivattyú szakmai nap
DESCRIPTION:
URL:https://terralux.hu/esemeny/ii-fokuszban-a-klima-es-a-hoszivattyu-szakmai-nap
LOCATION:Lurdy-ház\, Könyves Kálmán krt. 12-14\, Budapest\, 1097\, Magyarország
END:VEVENT
BEGIN:VEVENT
DTSTART;TZID=Europe/Budapest:20231031T140000
DTEND;TZID=Europe/Budapest:20231031T170000
DTSTAMP:20260423T003345
CREATED:20230925T101105Z
LAST-MODIFIED:20230925T101105Z
UID:2264-1698760800-1698771600@terralux.hu
SUMMARY:Őszi Országos Eseménysorozat Veszprém Hotel Historia Malomkert 8200 Veszpérm\, Fenyves utca 15-17.
DESCRIPTION:
URL:https://terralux.hu/esemeny/oszi-orszagos-esemenysorozat-veszprem-hotel-historia-malomkert-8200-veszperm-fenyves-utca-15-17
END:VEVENT
BEGIN:VEVENT
DTSTART;TZID=Europe/Budapest:20231025T083000
DTEND;TZID=Europe/Budapest:20231025T160000
DTSTAMP:20260423T003345
CREATED:20230829T105824Z
LAST-MODIFIED:20230829T105824Z
UID:2062-1698222600-1698249600@terralux.hu
SUMMARY:V. Gáz- és Kéménytechnikai Szakmai Nap
DESCRIPTION:
URL:https://terralux.hu/esemeny/v-gaz-es-kemenytechnikai-szakmai-nap
END:VEVENT
BEGIN:VEVENT
DTSTART;TZID=Europe/Budapest:20231024T140000
DTEND;TZID=Europe/Budapest:20231024T170000
DTSTAMP:20260423T003345
CREATED:20230925T101036Z
LAST-MODIFIED:20230925T101036Z
UID:2262-1698156000-1698166800@terralux.hu
SUMMARY:Őszi Országos Eseménysorozat Pécs Sándor Hotel 7625 Pécs\, Kálvária u. 58
DESCRIPTION:
URL:https://terralux.hu/esemeny/oszi-orszagos-esemenysorozat-pecs-sandor-hotel-7625-pecs-kalvaria-u-58
END:VEVENT
BEGIN:VEVENT
DTSTART;TZID=Europe/Budapest:20231019T140000
DTEND;TZID=Europe/Budapest:20231019T170000
DTSTAMP:20260423T003345
CREATED:20230925T101005Z
LAST-MODIFIED:20230925T101005Z
UID:2260-1697724000-1697734800@terralux.hu
SUMMARY:Őszi Országos Eseménysorozat Székesfehérvár Szent Gellért Hotel 8000 Székesfehérvár\, Mátyás király krt. 1.
DESCRIPTION:
URL:https://terralux.hu/esemeny/oszi-orszagos-esemenysorozat-szekesfehervar-szent-gellert-hotel-8000-szekesfehervar-matyas-kiraly-krt-1
END:VEVENT
BEGIN:VEVENT
DTSTART;TZID=Europe/Budapest:20231012T140000
DTEND;TZID=Europe/Budapest:20231012T170000
DTSTAMP:20260423T003345
CREATED:20230925T100934Z
LAST-MODIFIED:20230925T100934Z
UID:2258-1697119200-1697130000@terralux.hu
SUMMARY:Őszi Országos Eseménysorozat Szombathely Forum Étterem 9700\, Szombathely\, Kossuth Lajos u. 2.
DESCRIPTION:
URL:https://terralux.hu/esemeny/oszi-orszagos-esemenysorozat-szombathely-forum-etterem-9700-szombathely-kossuth-lajos-u-2
END:VEVENT
BEGIN:VEVENT
DTSTART;TZID=Europe/Budapest:20231011T083000
DTEND;TZID=Europe/Budapest:20231011T153000
DTSTAMP:20260423T003345
CREATED:20230829T105749Z
LAST-MODIFIED:20230829T105749Z
UID:2060-1697013000-1697038200@terralux.hu
SUMMARY:IX. Klíma és Legtechnikai Szakmai Nap
DESCRIPTION:
URL:https://terralux.hu/esemeny/ix-klima-es-legtechnikai-szakmai-nap
LOCATION:Lurdy-ház\, Könyves Kálmán krt. 12-14\, Budapest\, 1097\, Magyarország
END:VEVENT
BEGIN:VEVENT
DTSTART;TZID=Europe/Budapest:20231010T140000
DTEND;TZID=Europe/Budapest:20231010T170000
DTSTAMP:20260423T003345
CREATED:20230925T100849Z
LAST-MODIFIED:20230925T100849Z
UID:2256-1696946400-1696957200@terralux.hu
SUMMARY:Őszi Országos Eseménysorozat Zalaegerszeg Aranybárány Hotel 8900 Zalaegerszeg\, Széchenyi tér 1.
DESCRIPTION:
URL:https://terralux.hu/esemeny/oszi-orszagos-esemenysorozat-zalaegerszeg-aranybarany-hotel-8900-zalaegerszeg-szechenyi-ter-1
END:VEVENT
BEGIN:VEVENT
DTSTART;TZID=Europe/Budapest:20230927T073000
DTEND;TZID=Europe/Budapest:20230927T100000
DTSTAMP:20260423T003345
CREATED:20230829T105704Z
LAST-MODIFIED:20230829T105704Z
UID:2058-1695799800-1695808800@terralux.hu
SUMMARY:Terralux reggeli Perfekt Szuper\, Keszthely
DESCRIPTION:
URL:https://terralux.hu/esemeny/terralux-reggeli-perfekt-szuper-keszthely
END:VEVENT
BEGIN:VEVENT
DTSTART;TZID=Europe/Budapest:20230921T120000
DTEND;TZID=Europe/Budapest:20230921T130000
DTSTAMP:20260423T003345
CREATED:20230829T111359Z
LAST-MODIFIED:20230829T111359Z
UID:2098-1695297600-1695301200@terralux.hu
SUMMARY:Októberfeszt
DESCRIPTION:
URL:https://terralux.hu/esemeny/oktoberfeszt-8
LOCATION:Szerelvénybolt – Győr\, Budai út 2.\, Győr\, Győr-Moson-Sopron vármegye\, 9027\, Magyarország
END:VEVENT
BEGIN:VEVENT
DTSTART;TZID=Europe/Budapest:20230920T090000
DTEND;TZID=Europe/Budapest:20230920T160000
DTSTAMP:20260423T003345
CREATED:20230829T111552Z
LAST-MODIFIED:20230829T111552Z
UID:2100-1695200400-1695225600@terralux.hu
SUMMARY:XI. Megújuló Energia Szakmai Nap
DESCRIPTION:
URL:https://terralux.hu/esemeny/xi-megujulo-energia-szakmai-nap
LOCATION:Lurdy-ház\, Könyves Kálmán krt. 12-14\, Budapest\, 1097\, Magyarország
END:VEVENT
BEGIN:VEVENT
DTSTART;TZID=Europe/Budapest:20230919T070000
DTEND;TZID=Europe/Budapest:20230919T120000
DTSTAMP:20260423T003345
CREATED:20230829T111216Z
LAST-MODIFIED:20230829T111216Z
UID:2093-1695106800-1695124800@terralux.hu
SUMMARY:Októberfeszt
DESCRIPTION:
URL:https://terralux.hu/esemeny/oktoberfeszt-7
LOCATION:Szerelvénybolt – Budapest 23\, Bevásárló u. 2\, Budapest\, Pest vármegye\, 1239\, Magyarország
END:VEVENT
BEGIN:VEVENT
DTSTART;TZID=Europe/Budapest:20230914T070000
DTEND;TZID=Europe/Budapest:20230914T120000
DTSTAMP:20260423T003345
CREATED:20230829T110958Z
LAST-MODIFIED:20230829T111057Z
UID:2088-1694674800-1694692800@terralux.hu
SUMMARY:Októberfeszt
DESCRIPTION:
URL:https://terralux.hu/esemeny/oktoberfeszt-6
LOCATION:Szerelvénybolt – Kecskemét\, Ceglédi út 38.\, Kecskemét\, Bács-Kiskun vármegye\, 6000\, Magyarország
END:VEVENT
BEGIN:VEVENT
DTSTART;TZID=Europe/Budapest:20230913T070000
DTEND;TZID=Europe/Budapest:20230913T120000
DTSTAMP:20260423T003345
CREATED:20230829T110844Z
LAST-MODIFIED:20230829T110853Z
UID:2082-1694588400-1694606400@terralux.hu
SUMMARY:Októberfeszt
DESCRIPTION:
URL:https://terralux.hu/esemeny/oktoberfeszt-5
LOCATION:Szerelvénybolt – Debrecen\, Rigó u. 4/b.\, Debrecen\, Hajdú-Bihar vármegye\, 4030\, Magyarország
END:VEVENT
BEGIN:VEVENT
DTSTART;TZID=Europe/Budapest:20230912T070000
DTEND;TZID=Europe/Budapest:20230912T120000
DTSTAMP:20260423T003345
CREATED:20230829T110640Z
LAST-MODIFIED:20230829T110640Z
UID:2080-1694502000-1694520000@terralux.hu
SUMMARY:Októberfeszt
DESCRIPTION:
URL:https://terralux.hu/esemeny/oktoberfeszt-4
LOCATION:Szerelvénybolt – Dunakeszi\, Pallag u. 11.\, Dunakeszi\, Pest vármegye\, 2120\, Magyarország
END:VEVENT
BEGIN:VEVENT
DTSTART;TZID=Europe/Budapest:20230911T080000
DTEND;TZID=Europe/Budapest:20230911T103000
DTSTAMP:20260423T003345
CREATED:20230829T111713Z
LAST-MODIFIED:20230829T111713Z
UID:2104-1694419200-1694428200@terralux.hu
SUMMARY:Terralux Reggeli T-96 Kft.
DESCRIPTION:
URL:https://terralux.hu/esemeny/terralux-reggeli-t-96-kft
LOCATION:T-96 Kft.\, Kecskeméti út 27.\, Solt\, Bács-Kiskun vármegye\, 6320\, Magyarország
END:VEVENT
BEGIN:VEVENT
DTSTART;TZID=Europe/Budapest:20230907T070000
DTEND;TZID=Europe/Budapest:20230907T120000
DTSTAMP:20260423T003345
CREATED:20230829T110444Z
LAST-MODIFIED:20230829T110501Z
UID:2076-1694070000-1694088000@terralux.hu
SUMMARY:Októberfeszt
DESCRIPTION:
URL:https://terralux.hu/esemeny/oktoberfeszt-3
LOCATION:Szerelvénybolt – Budapest 13\, Klapka u. 9.\, Budapest\, Pest vármegye\, 1134\, Magyarország
END:VEVENT
BEGIN:VEVENT
DTSTART;TZID=Europe/Budapest:20230906T070000
DTEND;TZID=Europe/Budapest:20230906T120000
DTSTAMP:20260423T003345
CREATED:20230829T110245Z
LAST-MODIFIED:20230829T110401Z
UID:2069-1693983600-1694001600@terralux.hu
SUMMARY:Októberfeszt
DESCRIPTION:
URL:https://terralux.hu/esemeny/oktoberfeszt-2
LOCATION:Szerelvénybolt – Budapest 10\, Gyömrői út 76.\, Budapest\, Pest vármegye\, 1103\, Magyarország
END:VEVENT
BEGIN:VEVENT
DTSTART;TZID=Europe/Budapest:20230905T070000
DTEND;TZID=Europe/Budapest:20230905T120000
DTSTAMP:20260423T003345
CREATED:20230829T110056Z
LAST-MODIFIED:20230829T110106Z
UID:2065-1693897200-1693915200@terralux.hu
SUMMARY:Októberfeszt
DESCRIPTION:
URL:https://terralux.hu/esemeny/oktoberfeszt
LOCATION:Home Center Üzletközpont\, Pesti út 237/F. Fö. ép. A/1\, Budapest\, Pest vármegye\, 1173\, Magyarország
END:VEVENT
BEGIN:VEVENT
DTSTART;TZID=Europe/Budapest:20230904T080000
DTEND;TZID=Europe/Budapest:20230904T110000
DTSTAMP:20260423T003345
CREATED:20230829T102833Z
LAST-MODIFIED:20230829T103030Z
UID:2042-1693814400-1693825200@terralux.hu
SUMMARY:Terralux reggeli Némedi Víz-Gáz Kft.
DESCRIPTION:
URL:https://terralux.hu/esemeny/terralux-reggeli-nemedi-viz-gaz-kft
LOCATION:Némedi Víz-Gáz Kft.\, Templom utca 21\, Bugyi\, Pest vármegye\, 2347\, Magyarország
END:VEVENT
END:VCALENDAR