BEGIN:VCALENDAR
VERSION:2.0
PRODID:-//Terralux.hu - ECPv6.2.0.1//NONSGML v1.0//EN
CALSCALE:GREGORIAN
METHOD:PUBLISH
X-ORIGINAL-URL:https://terralux.hu
X-WR-CALDESC:Events for Terralux.hu
REFRESH-INTERVAL;VALUE=DURATION:PT1H
X-Robots-Tag:noindex
X-PUBLISHED-TTL:PT1H
BEGIN:VTIMEZONE
TZID:Europe/Budapest
BEGIN:DAYLIGHT
TZOFFSETFROM:+0100
TZOFFSETTO:+0200
TZNAME:CEST
DTSTART:20240331T010000
END:DAYLIGHT
BEGIN:STANDARD
TZOFFSETFROM:+0200
TZOFFSETTO:+0100
TZNAME:CET
DTSTART:20241027T010000
END:STANDARD
END:VTIMEZONE
BEGIN:VEVENT
DTSTART;VALUE=DATE:20240807
DTEND;VALUE=DATE:20240808
DTSTAMP:20260423T060055
CREATED:20240624T105431Z
LAST-MODIFIED:20240624T105431Z
UID:2938-1722988800-1723075199@terralux.hu
SUMMARY:Némedi-Víz-Gáz Kft. Alsónémedi
DESCRIPTION:
URL:https://terralux.hu/esemeny/nemedi-viz-gaz-kft-alsonemedi
END:VEVENT
END:VCALENDAR