BEGIN:VCALENDAR
VERSION:2.0
PRODID:-//Terralux.hu - ECPv6.2.0.1//NONSGML v1.0//EN
CALSCALE:GREGORIAN
METHOD:PUBLISH
X-WR-CALNAME:Terralux.hu
X-ORIGINAL-URL:https://terralux.hu
X-WR-CALDESC:Events for Terralux.hu
REFRESH-INTERVAL;VALUE=DURATION:PT1H
X-Robots-Tag:noindex
X-PUBLISHED-TTL:PT1H
BEGIN:VTIMEZONE
TZID:Europe/Budapest
BEGIN:DAYLIGHT
TZOFFSETFROM:+0100
TZOFFSETTO:+0200
TZNAME:CEST
DTSTART:20240331T010000
END:DAYLIGHT
BEGIN:STANDARD
TZOFFSETFROM:+0200
TZOFFSETTO:+0100
TZNAME:CET
DTSTART:20241027T010000
END:STANDARD
END:VTIMEZONE
BEGIN:VEVENT
DTSTART;VALUE=DATE:20240502
DTEND;VALUE=DATE:20240503
DTSTAMP:20260423T111859
CREATED:20240130T114044Z
LAST-MODIFIED:20240130T114102Z
UID:2717-1714608000-1714694399@terralux.hu
SUMMARY:Tavaszi Országjáró Turné 2024 - 3300 Eger\, Szálloda út 1-3.
DESCRIPTION:Eger – https://www.hunguesthotels.hu/hu/hotel/eger/hotel_eger_park/hotel_eger_park/
URL:https://terralux.hu/esemeny/tavaszi-orszagjaro-turne-2024-3300-eger-szalloda-ut-1-3
END:VEVENT
END:VCALENDAR