BEGIN:VCALENDAR
VERSION:2.0
PRODID:-//Terralux.hu - ECPv6.2.0.1//NONSGML v1.0//EN
CALSCALE:GREGORIAN
METHOD:PUBLISH
X-WR-CALNAME:Terralux.hu
X-ORIGINAL-URL:https://terralux.hu
X-WR-CALDESC:Events for Terralux.hu
REFRESH-INTERVAL;VALUE=DURATION:PT1H
X-Robots-Tag:noindex
X-PUBLISHED-TTL:PT1H
BEGIN:VTIMEZONE
TZID:Europe/Budapest
BEGIN:DAYLIGHT
TZOFFSETFROM:+0100
TZOFFSETTO:+0200
TZNAME:CEST
DTSTART:20240331T010000
END:DAYLIGHT
BEGIN:STANDARD
TZOFFSETFROM:+0200
TZOFFSETTO:+0100
TZNAME:CET
DTSTART:20241027T010000
END:STANDARD
END:VTIMEZONE
BEGIN:VEVENT
DTSTART;VALUE=DATE:20240425
DTEND;VALUE=DATE:20240426
DTSTAMP:20260423T124842
CREATED:20240130T113608Z
LAST-MODIFIED:20240130T113635Z
UID:2710-1714003200-1714089599@terralux.hu
SUMMARY:Tavaszi Országjáró Turné 2024 - 5600 Békéscsaba Kórház u. 4.
DESCRIPTION:Békéscsaba – https://munkacsyhotel.com/
URL:https://terralux.hu/esemeny/tavaszi-orszagjaro-turne-2024-5600-bekescsaba-korhaz-u-4
END:VEVENT
END:VCALENDAR