BEGIN:VCALENDAR
VERSION:2.0
PRODID:-//Terralux.hu - ECPv6.2.0.1//NONSGML v1.0//EN
CALSCALE:GREGORIAN
METHOD:PUBLISH
X-ORIGINAL-URL:https://terralux.hu
X-WR-CALDESC:Events for Terralux.hu
REFRESH-INTERVAL;VALUE=DURATION:PT1H
X-Robots-Tag:noindex
X-PUBLISHED-TTL:PT1H
BEGIN:VTIMEZONE
TZID:Europe/Budapest
BEGIN:DAYLIGHT
TZOFFSETFROM:+0100
TZOFFSETTO:+0200
TZNAME:CEST
DTSTART:20240331T010000
END:DAYLIGHT
BEGIN:STANDARD
TZOFFSETFROM:+0200
TZOFFSETTO:+0100
TZNAME:CET
DTSTART:20241027T010000
END:STANDARD
END:VTIMEZONE
BEGIN:VEVENT
DTSTART;VALUE=DATE:20240424
DTEND;VALUE=DATE:20240425
DTSTAMP:20260423T124913
CREATED:20240130T113431Z
LAST-MODIFIED:20240130T113502Z
UID:2707-1713916800-1714003199@terralux.hu
SUMMARY:Tavaszi Országjáró Turné 2024 - 4002 Debrecen\, Diószegi - Panoráma út kereszteződése
DESCRIPTION:Debrecen – https://erdospuszta-clubhotel.hu/
URL:https://terralux.hu/esemeny/tavaszi-orszagjaro-turne-2024-4002-debrecen-dioszegi-panorama-ut-keresztezodese
END:VEVENT
END:VCALENDAR