BEGIN:VCALENDAR
VERSION:2.0
PRODID:-//Terralux.hu - ECPv6.2.0.1//NONSGML v1.0//EN
CALSCALE:GREGORIAN
METHOD:PUBLISH
X-WR-CALNAME:Terralux.hu
X-ORIGINAL-URL:https://terralux.hu
X-WR-CALDESC:Events for Terralux.hu
REFRESH-INTERVAL;VALUE=DURATION:PT1H
X-Robots-Tag:noindex
X-PUBLISHED-TTL:PT1H
BEGIN:VTIMEZONE
TZID:Europe/Budapest
BEGIN:DAYLIGHT
TZOFFSETFROM:+0100
TZOFFSETTO:+0200
TZNAME:CEST
DTSTART:20240331T010000
END:DAYLIGHT
BEGIN:STANDARD
TZOFFSETFROM:+0200
TZOFFSETTO:+0100
TZNAME:CET
DTSTART:20241027T010000
END:STANDARD
END:VTIMEZONE
BEGIN:VEVENT
DTSTART;VALUE=DATE:20240411
DTEND;VALUE=DATE:20240412
DTSTAMP:20260423T124914
CREATED:20240130T112300Z
LAST-MODIFIED:20240130T112445Z
UID:2686-1712793600-1712879999@terralux.hu
SUMMARY:Tavaszi Roadshow - Budapest 17
DESCRIPTION:
URL:https://terralux.hu/esemeny/tavaszi-roadshow-budapest-17
LOCATION:Szerelvénybolt – Budapest 17\, Csomafalva utca 1\, D épület D/4 üzlet\, Budapest\, 1173\, Magyarország
END:VEVENT
END:VCALENDAR