BEGIN:VCALENDAR
VERSION:2.0
PRODID:-//Terralux.hu - ECPv6.2.0.1//NONSGML v1.0//EN
CALSCALE:GREGORIAN
METHOD:PUBLISH
X-WR-CALNAME:Terralux.hu
X-ORIGINAL-URL:https://terralux.hu
X-WR-CALDESC:Events for Terralux.hu
REFRESH-INTERVAL;VALUE=DURATION:PT1H
X-Robots-Tag:noindex
X-PUBLISHED-TTL:PT1H
BEGIN:VTIMEZONE
TZID:Europe/Budapest
BEGIN:DAYLIGHT
TZOFFSETFROM:+0100
TZOFFSETTO:+0200
TZNAME:CEST
DTSTART:20230326T010000
END:DAYLIGHT
BEGIN:STANDARD
TZOFFSETFROM:+0200
TZOFFSETTO:+0100
TZNAME:CET
DTSTART:20231029T010000
END:STANDARD
END:VTIMEZONE
BEGIN:VEVENT
DTSTART;TZID=Europe/Budapest:20231107T083000
DTEND;TZID=Europe/Budapest:20231107T160000
DTSTAMP:20260423T210518
CREATED:20230829T105532Z
LAST-MODIFIED:20230829T105545Z
UID:2054-1699345800-1699372800@terralux.hu
SUMMARY:II. Fókuszban a klíma és a hőszivattyú szakmai nap
DESCRIPTION:
URL:https://terralux.hu/esemeny/ii-fokuszban-a-klima-es-a-hoszivattyu-szakmai-nap
LOCATION:Lurdy-ház\, Könyves Kálmán krt. 12-14\, Budapest\, 1097\, Magyarország
END:VEVENT
END:VCALENDAR