BEGIN:VCALENDAR
VERSION:2.0
PRODID:-//Terralux.hu - ECPv6.2.0.1//NONSGML v1.0//EN
CALSCALE:GREGORIAN
METHOD:PUBLISH
X-WR-CALNAME:Terralux.hu
X-ORIGINAL-URL:https://terralux.hu
X-WR-CALDESC:Events for Terralux.hu
REFRESH-INTERVAL;VALUE=DURATION:PT1H
X-Robots-Tag:noindex
X-PUBLISHED-TTL:PT1H
BEGIN:VTIMEZONE
TZID:Europe/Budapest
BEGIN:DAYLIGHT
TZOFFSETFROM:+0100
TZOFFSETTO:+0200
TZNAME:CEST
DTSTART:20230326T010000
END:DAYLIGHT
BEGIN:STANDARD
TZOFFSETFROM:+0200
TZOFFSETTO:+0100
TZNAME:CET
DTSTART:20231029T010000
END:STANDARD
END:VTIMEZONE
BEGIN:VEVENT
DTSTART;TZID=Europe/Budapest:20230927T073000
DTEND;TZID=Europe/Budapest:20230927T100000
DTSTAMP:20260423T230333
CREATED:20230829T105704Z
LAST-MODIFIED:20230829T105704Z
UID:2058-1695799800-1695808800@terralux.hu
SUMMARY:Terralux reggeli Perfekt Szuper\, Keszthely
DESCRIPTION:
URL:https://terralux.hu/esemeny/terralux-reggeli-perfekt-szuper-keszthely
END:VEVENT
END:VCALENDAR